BEGIN:VCALENDAR
METHOD:REQUEST
PRODID:Microsoft Exchange Server 2010
VERSION:2.0
BEGIN:VTIMEZONE
TZID:FLE Standard Time
BEGIN:STANDARD
DTSTART:16010101T040000
TZOFFSETFROM:+0300
TZOFFSETTO:+0200
RRULE:FREQ=YEARLY;INTERVAL=1;BYDAY=-1SU;BYMONTH=10
END:STANDARD
BEGIN:DAYLIGHT
DTSTART:16010101T030000
TZOFFSETFROM:+0200
TZOFFSETTO:+0300
RRULE:FREQ=YEARLY;INTERVAL=1;BYDAY=-1SU;BYMONTH=3
END:DAYLIGHT
END:VTIMEZONE
BEGIN:VEVENT
ORGANIZER;CN=Pirjo Jokinen:mailto:pirjo.jokinen@uudenmaanliitto.fi
DESCRIPTION;LANGUAGE=fi-FI:\n________________________________\nLähettäjä
 : Pirjo Jokinen <pirjo.jokinen@uudenmaanliitto.fi>\nLähetetty: tiistai 10
 . kesäkuuta 2025 13.27.44 (UTC+02:00) Helsinki\, Kyiv\, Riga\, Sofia\, Ta
 llinn\, Vilnius\nVastaanottaja: Antti Taronen <antti.taronen@uudenmaanliit
 to.fi>\; Hanna Laaksonen <hanna.laaksonen@uudenmaanliitto.fi>\; Leena Drom
 berg <leena.dromberg@uudenmaanliitto.fi>\; Nina Räihälä <nina.raihala@u
 udenmaanliitto.fi>\; Riitta Güner <riitta.guner@uudenmaanliitto.fi>\; Tii
 na Halonen <tiina.halonen@uudenmaanliitto.fi>\; Tiina Huotari <tiina.huota
 ri@uudenmaanliitto.fi>\; Tiina Marjeta <tiina.marjeta@uudenmaanliitto.fi>\
 ; Tuomas Aejmelaeus <tuomas.aejmelaeus@uudenmaanliitto.fi>\; Ville Pernaa 
 <ville.pernaa@uudenmaanliitto.fi>\nAihe: Hakuinfo: Hämeen\, Uudenmaan ja 
 Varsinais-Suomen liittojen EAKR-haku\nMilloin: Tapahtuu joka päivä alkae
 n 14.00 ja päättyen 16.00\, voimassa 25.8.2025 - 27.8.2025.\nMissä: Mic
 rosoft Teams -kokous\n\nUudenmaan liitto avaa elokuun lopussa maakuntien l
 iittojen yhteisen Euroopan aluekehitysrahaston (EAKR) rahoitushaun kolmell
 e koordinaatioonsa kuuluvalle maakunnan liitolle. Haussa ovat mukana Häme
 en\, Uudenmaan ja Varsinais-Suomen liitot. Haku on avoinna 25.8.–29.9.20
 25.\nHakuun liittyen järjestetään kolmen infotilaisuuden sarja\, jossa 
 esitellään haun painopisteitä ja annetaan hankehakemuksen laatimiseen l
 iittyviä ohjeita ja vinkkejä. Tilaisuudet järjestetään Teams-webinaar
 eina\, eikä niihin tarvitse ilmoittautua ennalta.\n\nHakuinfojen ajankohd
 at ja aiheet\nMaanantai 25.8. klo 14–16\nMaakuntien liittojen EAKR-rahoi
 tus ja haun painopisteet\n\n  *\nTiistai 26.8. klo 13.30–16\nHankkeiden 
 vaikuttavuus ja kustannukset\n\nKeskiviikko 27.8. klo 13.30–16\nHyvä ha
 nkehakemus\, hakemuksen täyttäminen EURA 2021 -järjestelmässä\n\n\n\n
 __________________________________________________________________________
 ______\nMicrosoft Teams Tarvitsetko apua?<https://aka.ms/JoinTeamsMeeting?
 omkt=fi-FI>\nLiity kokoukseen nyt<https://teams.microsoft.com/l/meetup-joi
 n/19%3ameeting_MWU1YjQxMzQtZjliNS00MTIzLTk3ZDktM2UyZDZkNTM3ZjE4%40thread.v
 2/0?context=%7b%22Tid%22%3a%223deabf73-9718-4dc4-96f6-638e2fb920ae%22%2c%2
 2Oid%22%3a%225a1d2fd8-e8e5-45cc-80b8-957c8fc39639%22%7d>\nKokoustunnus: 34
 0 261 967 870 5\nTunnuskoodi: xz6893Jj\n________________________________\n
 Järjestäjille: Kokousvaihtoehdot<https://teams.microsoft.com/meetingOpti
 ons/?organizerId=5a1d2fd8-e8e5-45cc-80b8-957c8fc39639&tenantId=3deabf73-97
 18-4dc4-96f6-638e2fb920ae&threadId=19_meeting_MWU1YjQxMzQtZjliNS00MTIzLTk3
 ZDktM2UyZDZkNTM3ZjE4@thread.v2&messageId=0&language=fi-FI>\n______________
 __________________________________________________________________\n
RRULE:FREQ=DAILY;UNTIL=20250827T110000Z;INTERVAL=1
UID:040000008200E00074C5B7101A82E0080000000011CD314DF2D9DB01000000000000000
 010000000D640EAD6ADE28A48998A7B2648518D9A
SUMMARY;LANGUAGE=fi-FI:FW: Hakuinfo: Hämeen\, Uudenmaan ja Varsinais-Suome
 n liittojen EAKR-haku
DTSTART;TZID=FLE Standard Time:20250825T140000
DTEND;TZID=FLE Standard Time:20250825T160000
CLASS:PUBLIC
PRIORITY:5
DTSTAMP:20250610T131442Z
TRANSP:OPAQUE
STATUS:CONFIRMED
SEQUENCE:0
LOCATION;LANGUAGE=fi-FI:Microsoft Teams -kokous
X-MICROSOFT-CDO-APPT-SEQUENCE:0
X-MICROSOFT-CDO-OWNERAPPTID:2123780625
X-MICROSOFT-CDO-BUSYSTATUS:TENTATIVE
X-MICROSOFT-CDO-INTENDEDSTATUS:BUSY
X-MICROSOFT-CDO-ALLDAYEVENT:FALSE
X-MICROSOFT-CDO-IMPORTANCE:1
X-MICROSOFT-CDO-INSTTYPE:1
X-MICROSOFT-ONLINEMEETINGINFORMATION:{"OnlineMeetingChannelId":null\,"Onlin
 eMeetingProvider":3}
X-MICROSOFT-SKYPETEAMSMEETINGURL:https://teams.microsoft.com/l/meetup-join/
 19%3ameeting_MWU1YjQxMzQtZjliNS00MTIzLTk3ZDktM2UyZDZkNTM3ZjE4%40thread.v2/
 0?context=%7b%22Tid%22%3a%223deabf73-9718-4dc4-96f6-638e2fb920ae%22%2c%22O
 id%22%3a%225a1d2fd8-e8e5-45cc-80b8-957c8fc39639%22%7d
X-MICROSOFT-SCHEDULINGSERVICEUPDATEURL:https://api.scheduler.teams.microsof
 t.com/teams/3deabf73-9718-4dc4-96f6-638e2fb920ae/5a1d2fd8-e8e5-45cc-80b8-9
 57c8fc39639/19_meeting_MWU1YjQxMzQtZjliNS00MTIzLTk3ZDktM2UyZDZkNTM3ZjE4@th
 read.v2/0
X-MICROSOFT-SKYPETEAMSPROPERTIES:{"cid":"19:meeting_MWU1YjQxMzQtZjliNS00MTI
 zLTk3ZDktM2UyZDZkNTM3ZjE4@thread.v2"\,"rid":0\,"mid":0\,"uid":null\,"priva
 te":true\,"type":0}
X-MICROSOFT-DONOTFORWARDMEETING:FALSE
X-MICROSOFT-DISALLOW-COUNTER:FALSE
X-MICROSOFT-REQUESTEDATTENDANCEMODE:DEFAULT
X-MICROSOFT-ISRESPONSEREQUESTED:FALSE
X-MICROSOFT-LOCATIONDISPLAYNAME:Microsoft Teams -kokous
X-MICROSOFT-LOCATIONSOURCE:None
X-MICROSOFT-LOCATIONS:[{"DisplayName":"Microsoft Teams -kokous"\,"LocationA
 nnotation":""\,"LocationUri":""\,"LocationStreet":""\,"LocationCity":""\,"
 LocationState":""\,"LocationCountry":""\,"LocationPostalCode":""\,"Locatio
 nFullAddress":""}]
BEGIN:VALARM
DESCRIPTION:REMINDER
TRIGGER;RELATED=START:P
ACTION:DISPLAY
END:VALARM
END:VEVENT
END:VCALENDAR
